BEGIN:VCALENDAR
VERSION:2.0
PRODID:-//wp-events-plugin.com//7.2.3.1//EN
TZID:Europe/Paris
X-WR-TIMEZONE:Europe/Paris
BEGIN:VEVENT
UID:10@lavoixrurale.info
DTSTART;TZID=Europe/Paris:20260222T140000
DTEND;TZID=Europe/Paris:20260222T180000
DTSTAMP:20260212T220822Z
URL:https://www.lavoixrurale.info/evenement/salon-du-livre-de-chalaux/
SUMMARY:Salon du livre de Chalaux
DESCRIPTION:De la fiction\, de la poésie\, de l'histoire... Dans ce villag
 e d'une centaine d'habitant·es dans le Morvan\, l'association Chalaux au 
 fil des pages organise la troisième édition de son salon du livre régio
 nal.\n\nVenez rencontrer les auteur·ices !\n\nSeront présent·es : Sandr
 a Amani\, Dominik Vallet\, Jean-Pierre Hutin\, François Warnan\, Philippe
  Dufour\, Bertrand Yvernault\, Jean-Louis Mucchielli\, Francoise Robo\, Fl
 orence Bigo-Renault\, Poète de Morvandie\, Marc Rey\, Vents du Morvan\, M
 émoires vivantes\, Christine Bonnard\, Béatrice Van den Bossche\, Noëll
 e Renault et Philippe Berte-Langereau.
ATTACH;FMTTYPE=image/jpeg:https://i0.wp.com/www.lavoixrurale.info/wp-conte
 nt/uploads/2026/02/affiche-salon-du-livre-Chalaux-2026.webp?fit=562%2C840&
 ssl=1
CATEGORIES:Arts et culture,littérature
LOCATION:Salle des fêtes de Chalaux\, Le Bourg\, Chalaux\, Nièvre\, 58140
 \, Bourgogne-Franche-Comté\, France
X-APPLE-STRUCTURED-LOCATION;VALUE=URI;X-ADDRESS=Le Bourg\, Chalaux\, Nièvr
 e\, 58140\, Bourgogne-Franche-Comté\, France;X-APPLE-RADIUS=100;X-TITLE=S
 alle des fêtes de Chalaux:geo:0,0
END:VEVENT
BEGIN:VTIMEZONE
TZID:Europe/Paris
X-LIC-LOCATION:Europe/Paris
BEGIN:STANDARD
DTSTART:20251026T020000
TZOFFSETFROM:+0200
TZOFFSETTO:+0100
TZNAME:CET
END:STANDARD
END:VTIMEZONE
END:VCALENDAR