BEGIN:VCALENDAR
VERSION:2.0
PRODID:-//wp-events-plugin.com//7.2.3.1//EN
TZID:Europe/Paris
X-WR-TIMEZONE:Europe/Paris
BEGIN:VEVENT
UID:13@lavoixrurale.info
DTSTART;TZID=Europe/Paris;VALUE=DATE:20260423
DTEND;TZID=Europe/Paris;VALUE=DATE:20260425
DTSTAMP:20260212T133418Z
URL:https://www.lavoixrurale.info/evenement/formation-a-lemergence-de-proj
 ets-agriruraux/
SUMMARY:Formation à l'émergence de projets agriruraux
DESCRIPTION:\nLe réseau RARES propose une formation sur deux journées con
 sécutives en Bourgogne et en Franche-Comté\, les 23 et 24 avril à Glux-
 en-Glenne (58) et les 5 et 6 mai à Sancey-le-Grand (25)\, destinée à to
 ut porteur de projet agri-rural (agricole mais pas que) au stade d’émer
 gence.\nL’agriruralité est la combinaison d’une activité agricole av
 ec d'autres activités qui en sont le prolongement (vente directe\, transf
 ormation...) ou relevant d'une autre nature (artisanale\, touristique\, p
 édagogique\, sociale...) ou encore à une diversité d’activités au c
 œur d’un même projet d’ensemble alliant différents secteurs\, diff
 érentes structures et/ou différents statuts juridiques et fiscaux.\nLe d
 éroulé pédagogique de cette formation a été construit pour répondre 
 aux objectifs suivants :\n\n\n 	faire découvrir les particularités lié
 es à la combinaison d’activités et les formes que peuvent concrètemen
 t prendre l’agriruralité\n 	mettre en avant les points de vigilance sp
 écifiques à ce type de projets d’installation\n 	permettre d’élargi
 r le champs de représentation vis-à-vis des stratégies et des trajectoi
 res d’installation possibles\n 	faciliter l’identification de personne
 s-ressources et de ressources mobilisables tout au long de la construction
  de son projet de création d’entreprise agrirurale\n 	faciliter l’anc
 rage territorial et l’intégration au sein d’un réseau d’acteurs lo
 caux\n\nUne visite de ferme agrirurale est notamment intégrée au program
 me de chaque session (la ferme de Cécile Riffet (Plumes de Mouton) à Glu
 x-en-Glenne et la ferme des Plaines à Sancey-le-Grand)\nHors hébergemen
 t et restauration\, les participant·es n'auront rien à débourser (la fo
 rmation est financée par le ministère de l’Agriculture via son program
 me CASDAR et de la Région Bourgogne-Franche-Comté).\nPour toute question
  et pour plus d’informations\, vous pouvez contacter Sarah Verjux en Bou
 rgogne (sarah.verjux@accueil-paysan.com / 07 86 14 61 72) et Elisa HIEL e
 n Franche-Comté (elisa.hiel@civam.org / 07 45 85 53 55).\nLes inscriptio
 ns sont ouvertes jusqu’au 2 mars 2026 au lien suivant : https://forms.gl
 e/cK2cXxQY1dPA9ah19\nSuite à votre inscription\, vous serez recontacté·
 e pour vous proposer des créneaux d'entretiens individuels afin de valide
 r votre participation et déterminer la liste définitive des participant
 ·es pour chaque session. Ces entretiens ont pour vocation d'échanger de 
 vive voix sur votre projet et de confirmer l'adéquation entre votre stade
  d'avancement et le contenu de la formation qui vous sera proposée. Ces e
 ntretiens auront lieu le jeudi 26 février\, le mardi 3 mars et le mercred
 i 4 mars 2026.\nDes solutions d'hébergement à proximité ont été ident
 ifiées et pré-réservées : au gîte de la ferme des Plaines à Sancey 
 le Grand (15€ TTC / personne / nuit + 50€ de forfait ménage) et au 
 Centre de vacances du Croux à Saint-Léger sous Beuvray. Si votre partic
 ipation se confirme vous pourrez nous faire part de votre intérêt (ou no
 n) pour cette option d’hébergement (à vos frais).\nDes solutions de mu
 tualisation pour les repas seront proposées.\n\n\n
ATTACH;FMTTYPE=image/jpeg:https://i0.wp.com/www.lavoixrurale.info/wp-conte
 nt/uploads/2026/02/2026-Formation-a-lemergence-de-projets-agri-ruraux.png?
 fit=1414%2C2000&ssl=1
CATEGORIES:Éducation populaire
LOCATION:Glux-en-Glenne\, Glux-en-Glenne\, Glux-en-Glenne\, Nièvre\, 58370
 \, Bourgogne-Franche-Comté\, France
X-APPLE-STRUCTURED-LOCATION;VALUE=URI;X-ADDRESS=Glux-en-Glenne\, Glux-en-Gl
 enne\, Nièvre\, 58370\, Bourgogne-Franche-Comté\, France;X-APPLE-RADIUS=
 100;X-TITLE=Glux-en-Glenne:geo:0,0
END:VEVENT
BEGIN:VTIMEZONE
TZID:Europe/Paris
X-LIC-LOCATION:Europe/Paris
BEGIN:DAYLIGHT
DTSTART:20260329T030000
TZOFFSETFROM:+0100
TZOFFSETTO:+0200
TZNAME:CEST
END:DAYLIGHT
END:VTIMEZONE
END:VCALENDAR